BEGIN:VCALENDAR
VERSION:2.0
METHOD:PUBLISH
BEGIN:VEVENT
DTSTART:20251204T150000
DTEND:20251204T163000
LOCATION:JCMM, science klub, 2. patro
TRANSP: OPAQUE
SEQUENCE:0
UID:event3172@jcmm.cz
DTSTAMP:20260422T085925
SUMMARY:Voda - nezbytnost, zdroj nebo zbraň
DESCRIPTION:Voda - nezbytnost, zdroj nebo zbraň
PRIORITY:1
CLASS:PUBLIC
BEGIN:VALARM
TRIGGER:-PT1440M
ACTION:DISPLAY
DESCRIPTION:Reminder
END:VALARM
END:VEVENT
END:VCALENDAR
