BEGIN:VCALENDAR
VERSION:2.0
METHOD:PUBLISH
BEGIN:VEVENT
DTSTART:20251104T160000
DTEND:20251104T173000
LOCATION:JCMM, science klub, 2. patro
TRANSP: OPAQUE
SEQUENCE:0
UID:event3214@jcmm.cz
DTSTAMP:20260422T084735
SUMMARY:Mladý chemik aneb Jak být lůzr a stejně vyhrát
DESCRIPTION:Jak být lůzr a stejně vyhrát: ne-úspěchy mladého chemika na cestě do USA a zpět
PRIORITY:1
CLASS:PUBLIC
BEGIN:VALARM
TRIGGER:-PT1440M
ACTION:DISPLAY
DESCRIPTION:Reminder
END:VALARM
END:VEVENT
END:VCALENDAR
