BEGIN:VCALENDAR
VERSION:2.0
METHOD:PUBLISH
BEGIN:VEVENT
DTSTART:20260616T120000
DTEND:20251216T150000
LOCATION:SIMU LF MU, Kamenice 3, Brno, 625 00
TRANSP: OPAQUE
SEQUENCE:0
UID:event3318@jcmm.cz
DTSTAMP:20260419T162952
SUMMARY:T-exkurze do SIMU
DESCRIPTION:T-exkurze do SIMU
PRIORITY:1
CLASS:PUBLIC
BEGIN:VALARM
TRIGGER:-PT1440M
ACTION:DISPLAY
DESCRIPTION:Reminder
END:VALARM
END:VEVENT
END:VCALENDAR
