BEGIN:VCALENDAR
VERSION:2.0
METHOD:PUBLISH
BEGIN:VEVENT
DTSTART:20240624T090000
DTEND:20240624T111500
LOCATION:U Zoologické zahrady 46, 635 00 Brno
TRANSP: OPAQUE
SEQUENCE:0
UID:event2867@jcmm.cz
DTSTAMP:20260422T122613
SUMMARY:N-exkurze do ZOO Brno I
DESCRIPTION:N-exkurze do ZOO Brno I
PRIORITY:1
CLASS:PUBLIC
BEGIN:VALARM
TRIGGER:-PT1440M
ACTION:DISPLAY
DESCRIPTION:Reminder
END:VALARM
END:VEVENT
END:VCALENDAR
