BEGIN:VCALENDAR
VERSION:2.0
METHOD:PUBLISH
BEGIN:VEVENT
DTSTART:20260428T160000
DTEND:20260428T183000
LOCATION:Ústav chemie materiálů FCH VUT
TRANSP: OPAQUE
SEQUENCE:0
UID:event3283@jcmm.cz
DTSTAMP:20260426T020035
SUMMARY:Biodegradační test
DESCRIPTION:Biodegradační test
PRIORITY:1
CLASS:PUBLIC
BEGIN:VALARM
TRIGGER:-PT1440M
ACTION:DISPLAY
DESCRIPTION:Reminder
END:VALARM
END:VEVENT
END:VCALENDAR
