BEGIN:VCALENDAR
VERSION:2.0
METHOD:PUBLISH
BEGIN:VEVENT
DTSTART:20240202T160000
DTEND:20240202T180000
LOCATION:Science club, 2. patro, JCMM, Česká 11
TRANSP: OPAQUE
SEQUENCE:0
UID:event2787@jcmm.cz
DTSTAMP:20260422T122504
SUMMARY:Studium Aerospace Engineering na TU Delft
DESCRIPTION:Studium Aerospace Engineering na TU Delft
PRIORITY:1
CLASS:PUBLIC
BEGIN:VALARM
TRIGGER:-PT1440M
ACTION:DISPLAY
DESCRIPTION:Reminder
END:VALARM
END:VEVENT
END:VCALENDAR
